BEGIN:VCALENDAR
VERSION:2.0
PRODID:-//wp-events-plugin.com//7.2.3.1//EN
TZID:Europe/Berlin
X-WR-TIMEZONE:Europe/Berlin
BEGIN:VEVENT
UID:19@tsg-stadtbergen.de
DTSTART;TZID=Europe/Berlin:20251122T000000
DTEND;TZID=Europe/Berlin:20251122T000000
DTSTAMP:20251025T143916Z
URL:https://www.tsg-stadtbergen.de/events/carl-hermann-gaiser-gedaechtniss
 chwimmen/
SUMMARY:Carl-Hermann Gaiser Gedächtnisschwimmen
DESCRIPTION:
CATEGORIES:Schwimmen
LOCATION:Göppingen\, Barbarossa Thermen\, Lorcher Straße 44\, Göppingen\
 , 73033\, Deutschland
X-APPLE-STRUCTURED-LOCATION;VALUE=URI;X-ADDRESS=Lorcher Straße 44\, Göppi
 ngen\, 73033\, Deutschland;X-APPLE-RADIUS=100;X-TITLE=Göppingen\, Barbaro
 ssa Thermen:geo:0,0
END:VEVENT
BEGIN:VTIMEZONE
TZID:Europe/Berlin
X-LIC-LOCATION:Europe/Berlin
BEGIN:STANDARD
DTSTART:20251026T020000
TZOFFSETFROM:+0200
TZOFFSETTO:+0100
TZNAME:CET
END:STANDARD
END:VTIMEZONE
END:VCALENDAR