BEGIN:VCALENDAR
VERSION:2.0
PRODID:-//wp-events-plugin.com//7.2.3.1//EN
TZID:Europe/Berlin
X-WR-TIMEZONE:Europe/Berlin
BEGIN:VEVENT
UID:4@tsg-stadtbergen.de
DTSTART;TZID=Europe/Berlin;VALUE=DATE:20251122
DTEND;TZID=Europe/Berlin;VALUE=DATE:20251124
DTSTAMP:20251111T150415Z
URL:https://www.tsg-stadtbergen.de/events/dmsj-landesfinale/
SUMMARY:DMSJ Landesfinale
DESCRIPTION:
CATEGORIES:Schwimmen
LOCATION:Ingolstadt\, Hallenbad Südwest\, Lindberghstraße 71\, Ingolstadt
 \, Bayern\, 85051\, Deutschland
X-APPLE-STRUCTURED-LOCATION;VALUE=URI;X-ADDRESS=Lindberghstraße 71\, Ingol
 stadt\, Bayern\, 85051\, Deutschland;X-APPLE-RADIUS=100;X-TITLE=Ingolstadt
 \, Hallenbad Südwest:geo:0,0
END:VEVENT
BEGIN:VTIMEZONE
TZID:Europe/Berlin
X-LIC-LOCATION:Europe/Berlin
BEGIN:STANDARD
DTSTART:20251026T020000
TZOFFSETFROM:+0200
TZOFFSETTO:+0100
TZNAME:CET
END:STANDARD
END:VTIMEZONE
END:VCALENDAR