BEGIN:VCALENDAR
VERSION:2.0
PRODID:-//wp-events-plugin.com//7.2.3.1//EN
TZID:Europe/Berlin
X-WR-TIMEZONE:Europe/Berlin
BEGIN:VEVENT
UID:49@tsg-stadtbergen.de
DTSTART;TZID=Europe/Berlin:20260314T000000
DTEND;TZID=Europe/Berlin:20260314T000000
DTSTAMP:20260307T080939Z
URL:https://www.tsg-stadtbergen.de/events/gau-einzelwettkampf-maennlich/
SUMMARY:Gau-Einzelwettkampf männlich
DESCRIPTION:
CATEGORIES:Turnen
LOCATION:Stadtbergen\, Sporthalle\, Am Sportpark 2\, Stadtbergen\, 86391\, 
 Deutschland
X-APPLE-STRUCTURED-LOCATION;VALUE=URI;X-ADDRESS=Am Sportpark 2\, Stadtberge
 n\, 86391\, Deutschland;X-APPLE-RADIUS=100;X-TITLE=Stadtbergen\, Sporthall
 e:geo:0,0
END:VEVENT
BEGIN:VTIMEZONE
TZID:Europe/Berlin
X-LIC-LOCATION:Europe/Berlin
BEGIN:STANDARD
DTSTART:20251026T020000
TZOFFSETFROM:+0200
TZOFFSETTO:+0100
TZNAME:CET
END:STANDARD
END:VTIMEZONE
END:VCALENDAR